BEGIN:VCALENDAR
VERSION:2.0
PRODID:-//Sabre//Sabre VObject 4.5.8//EN
CALSCALE:GREGORIAN
BEGIN:VEVENT
UID:sabre-vobject-8010471f-88d6-4b41-a8e4-4ce2b54fe571
DTSTAMP:20260421T141931Z
SUMMARY:Asia - Kochkurs
DESCRIPTION:https://keb-pfaffenhofen.de/asia-kochkurs_id291393
DTSTART;TZID=Europe/Berlin:20260611T000000
LOCATION:Pfarrheim Münchsmünster\, Michael-Sirl-Straße 12\, 85126 Münch
 smünster
END:VEVENT
END:VCALENDAR
