BEGIN:VCALENDAR
VERSION:2.0
PRODID:-//Sabre//Sabre VObject 4.5.8//EN
CALSCALE:GREGORIAN
BEGIN:VEVENT
UID:sabre-vobject-1b47ac95-5b2d-487a-930b-db879b496421
DTSTAMP:20260421T141836Z
SUMMARY:Maiandacht mit anschl. Maifeier und Ehrungen
DESCRIPTION:https://keb-pfaffenhofen.de/maiandacht-mit-anschl-maifeier-und-
 ehrungen_id291392
DTSTART;TZID=Europe/Berlin:20260519T190000
LOCATION:Pfarrheim Münchsmünster\, Michael-Sirl-Straße 12\, 85126 Münch
 smünster
END:VEVENT
END:VCALENDAR
