BEGIN:VCALENDAR
VERSION:2.0
PRODID:-//Sabre//Sabre VObject 4.5.8//EN
CALSCALE:GREGORIAN
BEGIN:VEVENT
UID:sabre-vobject-43fab12a-f940-4d6b-82a0-3c02077e34a7
DTSTAMP:20260421T142033Z
SUMMARY:Geburtstagsfeier für alle Jubilare des vergangenen Jahres
DESCRIPTION:https://keb-pfaffenhofen.de/geburtstagsfeier-fuer-alle-jubilare
 -des-vergangenen-jahres_id291388
DTSTART;TZID=Europe/Berlin:20261118T140000
LOCATION:Pfarrheim Münchsmünster\, Michael-Sirl-Straße 12\, 85126 Münch
 smünster
END:VEVENT
END:VCALENDAR
