BEGIN:VCALENDAR
VERSION:2.0
PRODID:-//Sabre//Sabre VObject 4.5.8//EN
CALSCALE:GREGORIAN
BEGIN:VEVENT
UID:sabre-vobject-3348500e-084e-4348-a752-4170f1036e71
DTSTAMP:20260421T232700Z
SUMMARY:Advent - Licht im Dunkel
DESCRIPTION:https://keb-pfaffenhofen.de/advent-licht-im-dunkel_id291340
DTSTART;TZID=Europe/Berlin:20261129T140000
LOCATION:Pfarrzentrum Baar\, Kirchplatz 8\, 85107 Baar-Ebenhausen
END:VEVENT
END:VCALENDAR
