BEGIN:VCALENDAR
VERSION:2.0
PRODID:-//Sabre//Sabre VObject 4.5.8//EN
CALSCALE:GREGORIAN
BEGIN:VEVENT
UID:sabre-vobject-45c6a51e-1482-4606-9d2e-24559ca87af1
DTSTAMP:20260421T232716Z
SUMMARY:Meditation "Herbst"
DESCRIPTION:https://keb-pfaffenhofen.de/meditation-herbst_id291339
DTSTART;TZID=Europe/Berlin:20260926T150000
LOCATION:Pfarrzentrum Baar\, Kirchplatz 8\, 85107 Baar-Ebenhausen
END:VEVENT
END:VCALENDAR
