BEGIN:VCALENDAR
VERSION:2.0
PRODID:-//Sabre//Sabre VObject 4.5.8//EN
CALSCALE:GREGORIAN
BEGIN:VEVENT
UID:sabre-vobject-9104094f-5ebe-4697-824b-7bde53638545
DTSTAMP:20260421T233003Z
SUMMARY:Jahreshauptversammlung mit Rückblick
DESCRIPTION:https://keb-pfaffenhofen.de/jahreshauptversammlung-mit-rueckbli
 ck_id291338
DTSTART;TZID=Europe/Berlin:20260918T140000
LOCATION:Pfarrzentrum Baar\, Kirchplatz 8\, 85107 Baar-Ebenhausen
END:VEVENT
END:VCALENDAR
