BEGIN:VCALENDAR
VERSION:2.0
PRODID:-//Sabre//Sabre VObject 4.5.8//EN
CALSCALE:GREGORIAN
BEGIN:VEVENT
UID:sabre-vobject-8a521361-2120-4040-912c-d8398f8aeded
DTSTAMP:20260421T233315Z
SUMMARY:Erstellen eines Blumenteppiches
DESCRIPTION:https://keb-pfaffenhofen.de/erstellen-eines-blumenteppiches_id2
 91337
DTSTART;TZID=Europe/Berlin:20260603T153000
LOCATION:Pfarrzentrum Baar\, Kirchplatz 8\, 85107 Baar-Ebenhausen
END:VEVENT
END:VCALENDAR
