BEGIN:VCALENDAR
VERSION:2.0
PRODID:-//Sabre//Sabre VObject 4.5.8//EN
CALSCALE:GREGORIAN
BEGIN:VEVENT
UID:sabre-vobject-d039ee06-9344-4973-9574-64292ec1ad75
DTSTAMP:20260423T182119Z
SUMMARY:Rund um das Thema Defibrillator
DESCRIPTION:https://keb-pfaffenhofen.de/rund-um-das-thema-defibrillator_id2
 72957
DTSTART;TZID=Europe/Berlin:29241129T180000
LOCATION:Mehrgenerationenhaus im Caritas Zentrum\, Ambergerweg 3\, 85276 Pf
 affenhofen an der Ilm
END:VEVENT
END:VCALENDAR
