BEGIN:VCALENDAR
VERSION:2.0
PRODID:-//Sabre//Sabre VObject 4.5.8//EN
CALSCALE:GREGORIAN
BEGIN:VEVENT
UID:sabre-vobject-8161b51f-990f-4ed7-b84d-1d3cb1b80aa4
DTSTAMP:20260421T085827Z
SUMMARY:"Wir sprechen Deutsch" Deutschkurs - Deutsch als Fremdsprache
DESCRIPTION:https://keb-pfaffenhofen.de/wir-sprechen-deutsch-deutschkurs-de
 utsch-als-fremdsprache_id267706
DTSTART;TZID=Europe/Berlin:20250801T090000
DTEND;TZID=Europe/Berlin:20250801T110000
LOCATION:Alte Druckerei\, Ingolstädter Straße 18\, 85276 Pfaffenhofen an 
 der Ilm
END:VEVENT
END:VCALENDAR
