BEGIN:VCALENDAR
VERSION:2.0
PRODID:-//Sabre//Sabre VObject 4.5.8//EN
CALSCALE:GREGORIAN
BEGIN:VEVENT
UID:sabre-vobject-3baf8754-e594-408f-bacb-b20e8f555fed
DTSTAMP:20260421T085908Z
SUMMARY:Zerbrechliche Schönheit
DESCRIPTION:https://keb-pfaffenhofen.de/keb-pfaffenhofen/veranstaltungen/ze
 rbrechliche-schoenheit_id261658
DTSTART;TZID=Europe/Berlin:20250605T101500
LOCATION:Maximilanmuseum\, Fuggerplatz 1\, 86150 Augsburg
END:VEVENT
END:VCALENDAR
