BEGIN:VCALENDAR
VERSION:2.0
PRODID:-//Sabre//Sabre VObject 4.5.8//EN
CALSCALE:GREGORIAN
BEGIN:VEVENT
UID:sabre-vobject-03a48d83-f7b7-4599-9d96-bbba1f6d314f
DTSTAMP:20260421T085854Z
SUMMARY:Besichtigungen in Euernbach
DESCRIPTION:https://keb-pfaffenhofen.de/besichtigungen-in-euernbach_id24433
 7
DTSTART;TZID=Europe/Berlin:20251014T140000
LOCATION:Treffpunkt vor dem Haus der Begegnung\, Hauptplatz 47\, 85276 Pfaf
 fenhofen an der Ilm
END:VEVENT
END:VCALENDAR
